BEGIN:VCALENDAR
VERSION:2.0
PRODID:-//jEvents 2.0 for Joomla//EN
CALSCALE:GREGORIAN
METHOD:PUBLISH
BEGIN:VTIMEZONE
TZID:Europe/Berlin
BEGIN:STANDARD
DTSTART:20140220T000000
RDATE:20140330T030000
TZOFFSETFROM:+0200
TZOFFSETTO:+0100
TZNAME:Europe/Berlin CET
END:STANDARD
BEGIN:STANDARD
DTSTART:20141026T020000
RDATE:20150329T030000
TZOFFSETFROM:+0200
TZOFFSETTO:+0100
TZNAME:Europe/Berlin CET
END:STANDARD
BEGIN:STANDARD
DTSTART:20151025T020000
RDATE:20160327T030000
TZOFFSETFROM:+0200
TZOFFSETTO:+0100
TZNAME:Europe/Berlin CET
END:STANDARD
BEGIN:STANDARD
DTSTART:20161030T020000
RDATE:20170326T030000
TZOFFSETFROM:+0200
TZOFFSETTO:+0100
TZNAME:Europe/Berlin CET
END:STANDARD
BEGIN:STANDARD
DTSTART:20171029T020000
RDATE:20180325T030000
TZOFFSETFROM:+0200
TZOFFSETTO:+0100
TZNAME:Europe/Berlin CET
END:STANDARD
BEGIN:STANDARD
DTSTART:20181028T020000
RDATE:20190331T030000
TZOFFSETFROM:+0200
TZOFFSETTO:+0100
TZNAME:Europe/Berlin CET
END:STANDARD
BEGIN:STANDARD
DTSTART:20191027T020000
RDATE:20200329T030000
TZOFFSETFROM:+0200
TZOFFSETTO:+0100
TZNAME:Europe/Berlin CET
END:STANDARD
BEGIN:STANDARD
DTSTART:20201025T020000
RDATE:20210328T030000
TZOFFSETFROM:+0200
TZOFFSETTO:+0100
TZNAME:Europe/Berlin CET
END:STANDARD
BEGIN:DAYLIGHT
DTSTART:20140330T030000
RDATE:20141026T020000
TZOFFSETFROM:+0100
TZOFFSETTO:+0200
TZNAME:Europe/Berlin CEST
END:DAYLIGHT
BEGIN:DAYLIGHT
DTSTART:20150329T030000
RDATE:20151025T020000
TZOFFSETFROM:+0100
TZOFFSETTO:+0200
TZNAME:Europe/Berlin CEST
END:DAYLIGHT
BEGIN:DAYLIGHT
DTSTART:20160327T030000
RDATE:20161030T020000
TZOFFSETFROM:+0100
TZOFFSETTO:+0200
TZNAME:Europe/Berlin CEST
END:DAYLIGHT
BEGIN:DAYLIGHT
DTSTART:20170326T030000
RDATE:20171029T020000
TZOFFSETFROM:+0100
TZOFFSETTO:+0200
TZNAME:Europe/Berlin CEST
END:DAYLIGHT
BEGIN:DAYLIGHT
DTSTART:20180325T030000
RDATE:20181028T020000
TZOFFSETFROM:+0100
TZOFFSETTO:+0200
TZNAME:Europe/Berlin CEST
END:DAYLIGHT
BEGIN:DAYLIGHT
DTSTART:20190331T030000
RDATE:20191027T020000
TZOFFSETFROM:+0100
TZOFFSETTO:+0200
TZNAME:Europe/Berlin CEST
END:DAYLIGHT
BEGIN:DAYLIGHT
DTSTART:20200329T030000
RDATE:20201025T020000
TZOFFSETFROM:+0100
TZOFFSETTO:+0200
TZNAME:Europe/Berlin CEST
END:DAYLIGHT
END:VTIMEZONE
BEGIN:VEVENT
UID:99c362cbf6101234ed3577c0a596f0d0
CATEGORIES:Frankräich
CREATED:20161229T163640
SUMMARY:39. Concentre - Les Baroudeurs 51
LOCATION:F-51510 Fagnières
DESCRIPTION;ENCODING=QUOTED-PRINTABLE:<p class="p1"><span class="s1" style="font-size: 14pt;"><strong>LES BAROUDE
 URS 51</strong></span><span class="s2"></span></p><p class="p2"><span class
 ="s1"><strong>Sont heureux de vous inviter à </strong></span><span class="s
 4"><strong>leur 39</strong></span><span class="s5"><strong><sup>ième</sup><
 /strong></span><span class="s4"><strong> concentre </strong></span></p><p c
 lass="p3"><span class="s1"><strong>         <span style="font-size: 14pt;">
 Les 21  et 22 février 2015 A FAGNIERES 51510</span></strong></span></p><p c
 lass="p4"><span class="s1"><strong>  INSCRIPTION    15 €</strong></span></p
 ><p class="p4"><span class="s1"><strong> 1 carnet de 10 boissons 10€</stron
 g></span></p><p class="p4"><span class="s1"><strong>  Concert </strong></sp
 an></p><p class="p4"><span class="s1"><strong>                      Souveni
 r      </strong></span></p><p class="p4"><span class="s1"><strong>         
           Repas du samedi soir</strong></span></p><p class="p4"><span class
 ="s1"><strong>                       Soupe à l’oignon</strong></span></p><p
  class="p4"><span class="s1"><strong>                      P’tit déjeuner</
 strong></span></p><p class="p5"><span class="s6"></span><span class="s1"><s
 trong>                     Dimanche midi </strong></span><span class="s7"><
 strong>friterie </strong></span><span class="s1"><strong>                  
                                                                            
               </strong></span></p><p class="p4"><span class="s4"><strong>  
               </strong></span><span class="s1"><strong>Appeler : Gégé au 06
  01 75 65 55 </strong></span><span class="s8"><strong>(président)          
    </strong></span><span class="s1"><strong> </strong></span></p><p class="
 p6"><span class="s1"><strong>                                              
   </strong></span><span class="s9"><strong>Tata  au 03 26 64 04 95 (</stron
 g></span><span class="s1"><strong>secrétaire)</strong></span></p><p class="
 p6" style="text-align: center;"><span class="s1"><strong>                  
    </strong></span><span style="font-size: 12pt;"><span class="s10"><strong
 >Sur réservation, pour ne pas revivre la galère de l’année dernière</strong
 ></span><span class="s1"></span></span></p><p class="p6"><span style="font-
 size: 12pt;"><span class="s1"><strong>                               </stro
 ng></span><span class="s11"><strong>AVANT LE 14 FEVRIER 2015</strong></span
 ><span class="s4"><strong> </strong></span></span></p><p class="p3" style="
 text-align: center;"><span class="s1"><strong>Toujours au même endroit</str
 ong></span></p><p> </p>
DTSTAMP:20260425T130414Z
DTSTART;TZID=Europe/Berlin;VALUE=DATE:20150221
DTEND;TZID=Europe/Berlin;VALUE=DATE:20150223
SEQUENCE:0
TRANSP:OPAQUE
END:VEVENT
END:VCALENDAR